BEGIN:VCALENDAR
VERSION:2.0
PRODID:-//Eesti doktorikool - ECPv6.15.20//NONSGML v1.0//EN
CALSCALE:GREGORIAN
METHOD:PUBLISH
X-WR-CALNAME:Eesti doktorikool
X-ORIGINAL-URL:https://www.doktorikool.ee/et
X-WR-CALDESC:Events for Eesti doktorikool
REFRESH-INTERVAL;VALUE=DURATION:PT1H
X-Robots-Tag:noindex
X-PUBLISHED-TTL:PT1H
BEGIN:VTIMEZONE
TZID:Europe/Tallinn
BEGIN:DAYLIGHT
TZOFFSETFROM:+0200
TZOFFSETTO:+0300
TZNAME:EEST
DTSTART:20240331T010000
END:DAYLIGHT
BEGIN:STANDARD
TZOFFSETFROM:+0300
TZOFFSETTO:+0200
TZNAME:EET
DTSTART:20241027T010000
END:STANDARD
BEGIN:DAYLIGHT
TZOFFSETFROM:+0200
TZOFFSETTO:+0300
TZNAME:EEST
DTSTART:20250330T010000
END:DAYLIGHT
BEGIN:STANDARD
TZOFFSETFROM:+0300
TZOFFSETTO:+0200
TZNAME:EET
DTSTART:20251026T010000
END:STANDARD
BEGIN:DAYLIGHT
TZOFFSETFROM:+0200
TZOFFSETTO:+0300
TZNAME:EEST
DTSTART:20260329T010000
END:DAYLIGHT
BEGIN:STANDARD
TZOFFSETFROM:+0300
TZOFFSETTO:+0200
TZNAME:EET
DTSTART:20261025T010000
END:STANDARD
END:VTIMEZONE
BEGIN:VEVENT
DTSTART;TZID=Europe/Tallinn:20250911T100000
DTEND;TZID=Europe/Tallinn:20250911T160000
DTSTAMP:20260423T003621
CREATED:20250828T081944Z
LAST-MODIFIED:20250828T082412Z
UID:3364-1757584800-1757606400@www.doktorikool.ee
SUMMARY:Teaduseetika õppepäev humanitaarteaduste ja kunstide haru doktorantidele
DESCRIPTION:@ Jakobi 2-114\, Tartu \n\n\n\nEesti doktorikooli humanitaarteaduste ja kunstide haru kutsub osalema teaduseetika koolitusele\, 11. septemberil Tartus. \n\n\n\nKoolitusel osalemine on oluline\, sest eetikaküsimused on teadlase igapäevaelu osa. Kuidas küsida intervjueeritavalt või katse osaliselt nende nõusolekut? Kuidas lahendada erimeelsusi juhendaja või kaasautoriga? Kuidas olla vastutustundlik ja usaldusväärne teadlane välitöödel? Mis on hea teaduse tava? Kas oled lugenud kõiki teaduseetikaga seotud regulatsioone? \n\n\n\nKoolitusel osalemine on huvitav\, sest lahendama õpitakse praktilisi ülesandeid\, mis tuginevad päris elule. Osalejad õpivad märkama võimalikke eetilisi probleeme oma teadustöös ning omandavad oskusi tahtmatuid vigu vältida. \n\n\n\nKoolitust viivad läbi Tartu Ülikooli Eetikakeskuse spetsialistid Kadri Simm ja Anu Tammeleht. Koolitus toimub inglise keeles. \n\n\n\nAjakava\nEnne koolitust tuleb lugeda kaks teksti ja vaadata kahte videot. \n\n\n\n10.00 – 11.00    Tutvustus \n\n\n\n11.00 – 12.00    Kes ma olen teadlasena? Minu roll teaduses \n\n\n\n12.00 – 12.45    Lõuna (Jakobi 2-115) \n\n\n\n12.45 – 13.30    Eetiliste dilemmade lahendamine väärtuste mängu meetodil \n\n\n\n13.30 – 14.15    Kuidas lahendada eetilisi dilemmasid? Eetilise analüüsi tööriistad \n\n\n\n14.15 – 14.30    Paus \n\n\n\n14.30 – 15.30    Eetilised dilemmad doktorandi igapäevaelus (grupitöö + tagasisidestamine) \n\n\n\n15.30 – 16.00    Kokkuvõte \n\n\n\n\nRegistreeru SIIN. Registreerumise tähtaeg on 7. september 2025.Osalejate piirarv on 35\, osalemine registreerimisjärjekorra alusel. \n\n\n\nKüsimuste korral pöörduda Lii Langi poole\, lii.lang@ut.ee \n\n\n\nEesti doktorikooli humanitaarteaduste ja kunstide haru.
URL:https://www.doktorikool.ee/et/uritused/teaduseetika-oppepaev-humanitaarteaduste-ja-kunstide-haru-doktorantidele/
END:VEVENT
END:VCALENDAR