BEGIN:VCALENDAR
VERSION:2.0
PRODID:-//Eesti doktorikool - ECPv6.15.20//NONSGML v1.0//EN
CALSCALE:GREGORIAN
METHOD:PUBLISH
X-ORIGINAL-URL:https://www.doktorikool.ee/et
X-WR-CALDESC:Events for Eesti doktorikool
REFRESH-INTERVAL;VALUE=DURATION:PT1H
X-Robots-Tag:noindex
X-PUBLISHED-TTL:PT1H
BEGIN:VTIMEZONE
TZID:Europe/Tallinn
BEGIN:DAYLIGHT
TZOFFSETFROM:+0200
TZOFFSETTO:+0300
TZNAME:EEST
DTSTART:20240331T010000
END:DAYLIGHT
BEGIN:STANDARD
TZOFFSETFROM:+0300
TZOFFSETTO:+0200
TZNAME:EET
DTSTART:20241027T010000
END:STANDARD
BEGIN:DAYLIGHT
TZOFFSETFROM:+0200
TZOFFSETTO:+0300
TZNAME:EEST
DTSTART:20250330T010000
END:DAYLIGHT
BEGIN:STANDARD
TZOFFSETFROM:+0300
TZOFFSETTO:+0200
TZNAME:EET
DTSTART:20251026T010000
END:STANDARD
BEGIN:DAYLIGHT
TZOFFSETFROM:+0200
TZOFFSETTO:+0300
TZNAME:EEST
DTSTART:20260329T010000
END:DAYLIGHT
BEGIN:STANDARD
TZOFFSETFROM:+0300
TZOFFSETTO:+0200
TZNAME:EET
DTSTART:20261025T010000
END:STANDARD
END:VTIMEZONE
BEGIN:VEVENT
DTSTART;TZID=Europe/Tallinn:20250922T000000
DTEND;TZID=Europe/Tallinn:20250926T235959
DTSTAMP:20260423T002955
CREATED:20250818T121334Z
LAST-MODIFIED:20250912T200338Z
UID:3309-1758499200-1758931199@www.doktorikool.ee
SUMMARY:Akadeemiline kirjutamine ja kommunikatsioon
DESCRIPTION:@ Metsamaja\, Kreutzwaldi 5\, Tartu \n\n\n\nKursusele on oodatud loodus- ja põllumajandusteaduste haru doktorandid. \n\n\n\nMaht: 4 EAP \n\n\n\nKursus tutvustab osalejatele teadusliku kommunikatsiooni põhimõtteid ja teadusartiklite kirjutamist. Kuigi põhirõhk on teadusartiklitel\, käsitletakse ka muid teadusliku kirjutamise vorme\, nagu ülevaated\, konverentsikokkuvõtted\, suulised ja kirjalikud esitlused konverentsidel ning rahastamistaotluste kirjutamine. Osalejad õpivad\, kuidas oma uurimistulemusi erinevates meediumites tõhusalt esitada. \n\n\n\nKui teil on lõpetamata artikleid või olete alles kirjutamist alustamas\, on see kursus teile kindlasti kasulik. \n\n\n\nKursust viib läbi professor Gabor Lövei Aarhusi Ülikoolist (Taani)\, kes on raamatu „Writing and Publishing Scientific Papers: A Primer for the Non-English Speaker“ autor. Raamat on vabalt kättesaadav online. \n\n\n\nKursuse üksikasjad: \n\n\n\n\nKuupäevad: 22.-26. september 2025\n\n\n\nAsukoht: Kreutzwaldi 5\, EMÜ\n\n\n\nÕppekeel: Inglise keel\n\n\n\nVorming: Kursus sisaldab iseseisvaid tööülesandeid ja individuaalset tagasisidet igale osalejale.\n\n\n\nOsalemisnõuded: Osalejad peavad olema kohal vähemalt 80% loengutest (lubatud on puududa kuni kaks poolikut päeva)\, osalema aktiivselt rühmaaruteludes ja täitma neli kirjalikku ülesannet.\n\n\n\nAjakava: Kontaktõppepäevadel toimub õppetöö kell 9.00-17.00 (neli 90-minutilist sessiooni)\, lõuna kell 12.30-13.30\, ja kaks 30-minutilist pausi.\n\n\n\nKulud: Tasuta\n\n\n\nSertifikaat: Kursuse läbimise kohta väljastatakse tunnistus\, mida saab kasutada VÕTA (varasemate kogemuste arvestamise) programmis.\n\n\n\n\nRegistreerimine: \n\n\n\n\nRegistreerumine on avatud siin!\n\n\n\nRegistreerimis tähtaeg: 15. september või kuni kõik 24 kohta on täidetud.\n\n\n\nMärkus: Korraldajad jätavad endale õiguse kursus tühistada\, kui 15. september on registreerunud vähem kui 15 osalejat.\n\n\n\n\nLisaküsimuste korral võtke ühendust Karin Nurme’ga aadressil karin.nurme@emu.ee. \n\n\n\nEesti doktorikooli loodusteaduste ja põllumajandusteaduste haru.
URL:https://www.doktorikool.ee/et/uritused/akadeemiline-kirjutamine-ja-kommunikatsioon/
LOCATION:Tartu\, Estonia
CATEGORIES:Teadustöö mõjukus / Making an impact
END:VEVENT
BEGIN:VEVENT
DTSTART;TZID=Europe/Tallinn:20250924T100000
DTEND;TZID=Europe/Tallinn:20250924T113000
DTSTAMP:20260423T002955
CREATED:20250824T185012Z
LAST-MODIFIED:20250911T122149Z
UID:3321-1758708000-1758713400@www.doktorikool.ee
SUMMARY:Avatud teaduse sari: Avatud teaduse põhimõtted ja olulisus
DESCRIPTION:Veebis (Teams) \n\n\n\nKoolitus toimub inglise keeles. \n\n\n\nVeebikoolitus annab baasteadmised avatud teaduse põhimõtetest\, ajaloost ning arengutest Euroopas ning Eestis. Täpsemalt keskendutakse avatud teaduse sammastele\, osapooltele ning olulisusele.  \n\n\n\nKoolituse käigus antakse ülevaade\, millised on avatud teaduse poliitilised\, ühiskondlikud ja teaduslikud mõjud. Lisaks tutvustatakse avatud teaduse tegevusi ja võimalusi Eesti ülikoolides. Koolitus keskendub ka spetsiaalsetele lisavõimalustele\, mis on suunatud just doktorantidele.  \n\n\n\nKoolitaja: Liisi Lembinen. Liisi Lembinen on Tartu Ülikooli raamatukogu arendusdirektor\, kelle üheks valdkonnaks on avatud teaduse koordineerimine Tartu Ülikoolis ja Eestis üldisemalt. Ta on seotud erinevate Avatud teaduse projektide ja tegevustega nii Eestis kui rahvusvaheliselt (nt. Skills4EOSC\, OpenAIRE\, ENLIGHT ja Guild Avatud teaduse töörühmad)\, samuti koordineerib ta DataCite Eesti tegevusi.  \n\n\n\nRegistreeri SIIN. Registreerimise tähtaeg on 22. september 2025. \n\n\n\nKontakt: Kati Laidus\, kati.laidus@ut.ee \n\n\n\nEesti doktorikooli ühisüritus. Koolitus on suunatud kõikide valdkondade doktorantidele. \n\n\n\nVaata Avatud teaduse sarja järgmist koolitust siit.
URL:https://www.doktorikool.ee/et/uritused/avatud-teaduse-sari-avatud-teaduse-pohimotted-ja-olulisus/
LOCATION:Online
CATEGORIES:Teadustöö juhtimine / Managing Research,Teadustöö mõjukus / Making an impact
END:VEVENT
END:VCALENDAR