BEGIN:VCALENDAR
VERSION:2.0
PRODID:-//Eesti doktorikool - ECPv6.15.20//NONSGML v1.0//EN
CALSCALE:GREGORIAN
METHOD:PUBLISH
X-WR-CALNAME:Eesti doktorikool
X-ORIGINAL-URL:https://www.doktorikool.ee/et
X-WR-CALDESC:Events for Eesti doktorikool
REFRESH-INTERVAL;VALUE=DURATION:PT1H
X-Robots-Tag:noindex
X-PUBLISHED-TTL:PT1H
BEGIN:VTIMEZONE
TZID:Europe/Tallinn
BEGIN:DAYLIGHT
TZOFFSETFROM:+0200
TZOFFSETTO:+0300
TZNAME:EEST
DTSTART:20240331T010000
END:DAYLIGHT
BEGIN:STANDARD
TZOFFSETFROM:+0300
TZOFFSETTO:+0200
TZNAME:EET
DTSTART:20241027T010000
END:STANDARD
BEGIN:DAYLIGHT
TZOFFSETFROM:+0200
TZOFFSETTO:+0300
TZNAME:EEST
DTSTART:20250330T010000
END:DAYLIGHT
BEGIN:STANDARD
TZOFFSETFROM:+0300
TZOFFSETTO:+0200
TZNAME:EET
DTSTART:20251026T010000
END:STANDARD
BEGIN:DAYLIGHT
TZOFFSETFROM:+0200
TZOFFSETTO:+0300
TZNAME:EEST
DTSTART:20260329T010000
END:DAYLIGHT
BEGIN:STANDARD
TZOFFSETFROM:+0300
TZOFFSETTO:+0200
TZNAME:EET
DTSTART:20261025T010000
END:STANDARD
END:VTIMEZONE
BEGIN:VEVENT
DTSTART;TZID=Europe/Tallinn:20251009T000000
DTEND;TZID=Europe/Tallinn:20251010T235959
DTSTAMP:20260423T021432
CREATED:20250527T091655Z
LAST-MODIFIED:20250912T195615Z
UID:3108-1759968000-1760140799@www.doktorikool.ee
SUMMARY:Sügissümpoosion: Kestlikkuse minevik\, olevik ja tulevik(ud)
DESCRIPTION:Tartu Ülikooli Haridusteaduste instituudis\, Jakobi 5\, Tartu \n\n\n\nÜritus toimub inglise keeles. \n\n\n\nKestlikkuse küsimused on ühendavad oma olemuselt nii erinevaid distsipliine kui ajastuid. Sügissümpoosionil tegelemegi kestlikkuse mõtestamisega nii psühholoogilisest\, kultuurilisest kui loodusteaduslikust vaatest. Uurime\, kuidas on kestlikkuse ümber käivad diskussioonid ajalooliselt kujunenud\, kuidas seostuvad teemaga emotsioonid ja kuidas ning milliseid alternatiivseid tulevikuväljavaateid saab pakkuda tulevikku-vaatav teadusharidus. \n\n\n\nÜrituse esimene päev kutsub kuulama juhtivate teadlaste ettekandeid\, kaasa mõtlema ning arutlema. Teisel päeval jätkame arutelusid ühisjalutuskäigul\, mis pakub võimalust osaleda temaatilises töötoas ning ka aruteludes aktiivselt kaasa lüüa.  \n\n\n\nEsinejad\nDr. Anastasiya Astapova\, Tartu Ülikool \n\n\n\nDr. Astapova on folkloristika kaasprofessor Tartu Ülikoolis Eesti ja võrdleva rahvaluule osakonnas. Tema uurimistöö keskendub sellele\, kuidas levivad ja erinevad vandenõuteooriad eesti ja venekeelsetes kogukondades. Lisaks käsitleb tema uurimistöö huumorit ja selle võimet ennetada valeinfo levikut. \n\n\n\nDr. Aet Annist\, Tartu Ülikool \n\n\n\nDr. Annist on  Tartu Ülikooli etnoloogia kaasprofessor UNESCO õppetoolis\, kus tegeleb pärandkultuuri institutsionaalsete aspektidega. Tema uurimisteemad hõlmavad keskkonnaalaseid sotsiaalsusi\, kliimaliikumisi ja ühiskondlikke muutusi kliimamuutuste kontekstis. \n\n\n\nDr. Antti Laherto\, Helsingi Ülikool \n\n\n\nDr. Laherto on Helsingi Ülikooli haridusteaduskonna dotsent. Tema uurimistöö keskendub tulevikkuvaatavale teadusharidusele. Ta huvitub vastutustundliku teaduse ja innovatsiooni lõimimisest haridusse. \n\n\n\n\nAjakava Laadi alla\n\n\n\nRegistreeruda saab siin. \n\n\n\nRegistreerimise lõppeb kohtade täitumisel või 18. september 2025. \n\n\n\nOodatud on doktori- ja magistriõppe üliõpilased ning nende juhendajad\, kes huvituvad teemast. Sündmus on interdistsiplinaarne ning sobib kõigi valdkondade osalejatele. Eelistatud on doktorandid\, kelle uurimisteemad käsitlevad kestlikkuse ühiskondlikku mõõdet\, seejärel magistrandid\, kes huvituvad teemast. \n\n\n\nKüsimuste korral pöörduda: \n\n\n\n\nMarie Johanna Univer\, Ökoloogia ja maateaduste Instituut\, Tartu Ülikool\, marie.johanna.univer@ut.ee\n\n\n\nLiisi Pajula\, Haridusteaduste instituut\, Tartu Ülikool\, liisipajula@ut.ee\n\n\n\n\nEesti doktorikooli sotsiaalteaduste haru.
URL:https://www.doktorikool.ee/et/uritused/sugissumpoosion-kestlikkuse-minevik-olevik-ja-tulevikud/
LOCATION:Tartu\, Estonia
CATEGORIES:Teadustöö mõjukus / Making an impact,Teadustöö tegemine / Doing research
END:VEVENT
BEGIN:VEVENT
DTSTART;TZID=Europe/Tallinn:20251009T093000
DTEND;TZID=Europe/Tallinn:20251009T120000
DTSTAMP:20260423T021432
CREATED:20250829T134559Z
LAST-MODIFIED:20250912T195549Z
UID:3389-1760002200-1760011200@www.doktorikool.ee
SUMMARY:I Grupitreening doktorantidele teadustöös soorituse ja heaolu arendamiseks
DESCRIPTION:Treeningsessioonid toimuvad veebis Zoomi kaudu ingliskeelsena. \n\n\n\nEesti doktorikooli Sotsiaalteaduste haru korraldab doktorantidele grupitreeningud soorituse ja heaolu arendamiseks teadustööd. \n\n\n\nProtsess sisaldab 3 live grupitreeningut\, 1-2 rühmatreeningut ja lühikesi isiklikke katseid sessioonide vahel. Kõigis 3 sessioonis osalemine on kohustuslik! \n\n\n\nLive grupitreeningud (veebis\, esialgsed kuupäevad): \n\n\n\n\n9. oktoober\, 9:30 – 12:00\n\n\n\n23. oktoober\, 9:30 – 12:00\n\n\n\n13. november\, 9:30 – 12:00\n\n\n\n\nOsalejate maksimaalne arv: 12Osalejate minimaalne arv: 6 \n\n\n\nGrupitreeningu protsess keskendub teie sooritusele ja heaolule doktorantidena ning tugevdab teie vastupidavust teadustöös. See aitab välja töötada tõhusaid toimetulekustrateegiaid intensiivsete töökoormuste\, ebakindluse\, võimusuhete ja isoleerituse tunnetega toimetulekuks. Parandate oma võimet tulla toime tagasilöökidega ja suurendada oma taastumisvõimet raskustest. Grupitreeningu tulemusena olete paremini ette valmistatud oma töö keerukate perioodide käsitlemiseks. \n\n\n\nMis on grupitreening? \n\n\n\nGrupitreening on koostööpõhine protsess\, kus coach töötab väikese doktorantide rühmaga\, et aidata neil seada ja saavutada eesmärke\, uurida nende väljakutseid ja arendada uusi oskusi. Sessioonide vahel rakendavad osalejad õpikogemusi\, kohtuvad oma rühmaga ja peegeldavad oma edusamme. \n\n\n\nRohkem informatsiooni link: https://mariannnagatsu1.wixsite.com/phds \n\n\n\nRegistreeri siin\, registreerimise tähtaeg on 2. oktoober. \n\n\n\nKontakt küsimuste korral: Mariann Nagatsu\, mariann.nagatsu@gmail.com \n\n\n\nCoaches (treenerid): \n\n\n\nMariann Nagatsu\, psühholoogia magistrikraad\, sertifitseeritud lahenduspõhise coaching’u treener\, EMCC Senior Practitioner akrediteering. Treener juhtidele\, meeskondadele\, doktorantidele ja eraettevõtjatele. \n\n\n\nDr. Manuela Tischler\, sertifitseeritud lahenduspõhise organisatsioonilise coaching’u treener\, EMCC Senior Practitioner akrediteering. Treener doktorantidele\, postdoktorantidele ja professoritele Müncheni Rakendusteaduste Ülikoolis. \n\n\n\nAdministratiivküsimuste korral pöörduge: Tiina Hagen\, tiina.hagen@taltech.ee \n\n\n\nEesti doktorikooli sotsiaalteaduste haru.
URL:https://www.doktorikool.ee/et/uritused/grupitreening-doktorantidele-teadustoos-soorituse-ja-heaolu-arendamiseks-4/
LOCATION:Online
CATEGORIES:Enesejuhtimine / Self Management,Koostöö / Working with others
END:VEVENT
END:VCALENDAR