BEGIN:VCALENDAR
VERSION:2.0
PRODID:-//Eesti doktorikool - ECPv6.15.20//NONSGML v1.0//EN
CALSCALE:GREGORIAN
METHOD:PUBLISH
X-ORIGINAL-URL:https://www.doktorikool.ee/et
X-WR-CALDESC:Events for Eesti doktorikool
REFRESH-INTERVAL;VALUE=DURATION:PT1H
X-Robots-Tag:noindex
X-PUBLISHED-TTL:PT1H
BEGIN:VTIMEZONE
TZID:Europe/Tallinn
BEGIN:DAYLIGHT
TZOFFSETFROM:+0200
TZOFFSETTO:+0300
TZNAME:EEST
DTSTART:20240331T010000
END:DAYLIGHT
BEGIN:STANDARD
TZOFFSETFROM:+0300
TZOFFSETTO:+0200
TZNAME:EET
DTSTART:20241027T010000
END:STANDARD
BEGIN:DAYLIGHT
TZOFFSETFROM:+0200
TZOFFSETTO:+0300
TZNAME:EEST
DTSTART:20250330T010000
END:DAYLIGHT
BEGIN:STANDARD
TZOFFSETFROM:+0300
TZOFFSETTO:+0200
TZNAME:EET
DTSTART:20251026T010000
END:STANDARD
BEGIN:DAYLIGHT
TZOFFSETFROM:+0200
TZOFFSETTO:+0300
TZNAME:EEST
DTSTART:20260329T010000
END:DAYLIGHT
BEGIN:STANDARD
TZOFFSETFROM:+0300
TZOFFSETTO:+0200
TZNAME:EET
DTSTART:20261025T010000
END:STANDARD
END:VTIMEZONE
BEGIN:VEVENT
DTSTART;TZID=Europe/Tallinn:20251013T130000
DTEND;TZID=Europe/Tallinn:20251013T140000
DTSTAMP:20260423T040221
CREATED:20251002T121735Z
LAST-MODIFIED:20251002T121736Z
UID:3742-1760360400-1760364000@www.doktorikool.ee
SUMMARY:Külalisseminar „Uued meetodid väikeste funktsioneerivate hüpofüüsikasvajate kuvamiseks“
DESCRIPTION:@ Biomeedikum-0093\, Ravila 19 Tartu \n\n\n\nSebastian Neggersi avalik seminar. Tema ettekanne käsitleb väikeste hormoone sekreteerivate hüpofüüsi adenoomide diagnoosimise keerukust. Ta tutvustab uusimaid funktsionaalse kuvamise meetodeid\, mis parandavad adenoomide lokaliseerimist\, toetavad kirurgilist planeerimist ja võivad vähendada invasiivsete diagnostiliste protseduuride vajadust. Need uuendused annavad lootust täpsemale diagnoosile ja parematele ravitulemustele keerukate hüpofüüsihaigustega patsientidel. \n\n\n\nSebastian Neggers\nSebastian Neggers on endokrinoloogia professor ja konsultant Rotterdami Erasmuse Ülikooli Meditsiinikeskuses (Holland). Tema teadustöö keskendub hüpofüüsihaiguste (nt akromegaalia) medikamentoossele ravile\, pärilikele hüpofüüsihaigustele ning lapsepõlves vähiravi saanud patsientide pikaajalistele endokriinsetele ja metaboolsetele mõjudele. Ta on avaldanud üle 200 eelretsenseeritud teadusartikli ning on tegev mitmete teadusajakirjade ja erialaseltside (nt JCEM\, European Society of Endocrinology) juht- ja toimetuskolleegiumides. \n\n\n\n\nKüsimuste korral palume pöörduda professor Vallo Volke poole\, vallo.volke@ut.ee. \n\n\n\nEesti doktorikooli arsti- ja terviseteaduste\, veterinaaria haru.
URL:https://www.doktorikool.ee/et/uritused/kulalisseminar-uued-meetodid-vaikeste-funktsioneerivate-hupofuusikasvajate-kuvamiseks/
END:VEVENT
END:VCALENDAR