BEGIN:VCALENDAR
VERSION:2.0
PRODID:-//Eesti doktorikool - ECPv6.15.20//NONSGML v1.0//EN
CALSCALE:GREGORIAN
METHOD:PUBLISH
X-ORIGINAL-URL:https://www.doktorikool.ee/et
X-WR-CALDESC:Events for Eesti doktorikool
REFRESH-INTERVAL;VALUE=DURATION:PT1H
X-Robots-Tag:noindex
X-PUBLISHED-TTL:PT1H
BEGIN:VTIMEZONE
TZID:Europe/Tallinn
BEGIN:DAYLIGHT
TZOFFSETFROM:+0200
TZOFFSETTO:+0300
TZNAME:EEST
DTSTART:20250330T010000
END:DAYLIGHT
BEGIN:STANDARD
TZOFFSETFROM:+0300
TZOFFSETTO:+0200
TZNAME:EET
DTSTART:20251026T010000
END:STANDARD
BEGIN:DAYLIGHT
TZOFFSETFROM:+0200
TZOFFSETTO:+0300
TZNAME:EEST
DTSTART:20260329T010000
END:DAYLIGHT
BEGIN:STANDARD
TZOFFSETFROM:+0300
TZOFFSETTO:+0200
TZNAME:EET
DTSTART:20261025T010000
END:STANDARD
BEGIN:DAYLIGHT
TZOFFSETFROM:+0200
TZOFFSETTO:+0300
TZNAME:EEST
DTSTART:20270328T010000
END:DAYLIGHT
BEGIN:STANDARD
TZOFFSETFROM:+0300
TZOFFSETTO:+0200
TZNAME:EET
DTSTART:20271031T010000
END:STANDARD
END:VTIMEZONE
BEGIN:VEVENT
DTSTART;TZID=Europe/Tallinn:20260319T100000
DTEND;TZID=Europe/Tallinn:20260320T153000
DTSTAMP:20260420T125106
CREATED:20260202T090111Z
LAST-MODIFIED:20260202T093900Z
UID:4414-1773914400-1774020600@www.doktorikool.ee
SUMMARY:Doktorantide juhendajate koolitus: juhendajate toetamine ja arendamine 
DESCRIPTION:📍 Ravila 19\, Tartu (ruum 0140)  \n\n\n\nKoolitus toimub inglise keeles. \n\n\n\nMeditsiiniteaduste valdkonna doktoriõppe keskus kutsub teid osalema kahepäevasel interaktiivsel koolitusel „Doktorantide juhendajate koolitus: juhendajate toetamine ja arendamine“\, mille eesmärk on täiustada teadustöö juhendamise praktikaid. Koolitust viib läbi dr. Janet Carton\, rahvusvaheliselt tunnustatud ekspert doktoritöö juhendamise alal ja Dublini Ülikooli Kolledži (UCD) kraadiõppe ja teadusstrateegia juht. Programm on mõeldud nii uutele kui ka kogenud doktoritöö juhendajatele. Ootame osalema doktorantide juhendajaid Eesti doktorikooli arsti- ja terviseteaduste\, veterinaaria haru järgmiste ülikoolide ja doktoriõppe kavade juurest:  \n\n\n\n\nTartu Ülikool – Meditsiin ja sport \n\n\n\nTallinna Ülikool – Tervisekäitumine ja heaolu\, Sotsiaaltöö \n\n\n\nTallinna Tehnikaülikool – Loodusteadused: biomeditsiin ja tervisetehnoloogia \n\n\n\nEesti Maaülikool – Veterinaarmeditsiin ja toiduteadus \n\n\n\n\nDr. Janet Carton on rahvusvaheliselt tunnustatud ekspert doktoritöö juhendamise alal ja Dublini Ülikooli Kolledži (UCD) kraadiõppe ja teadusstrateegia juht. \n\n\n\nRegistreeri SIIN. Registreerimise tähtaeg on 06. veebruar 2026. \n\n\n\nKüsimuste korral palume pöörduda kaasprof. Kattri-Liis Eskla poole\,  kattri-liis.eskla@ut.ee. \n\n\n\nEesti doktorikooli arsti- ja terviseteadused\, veterinaaria haru.
URL:https://www.doktorikool.ee/et/uritused/doktorantide-juhendajate-koolitus-juhendajate-toetamine-ja-arendamine-2/
CATEGORIES:Teadustöö juhtimine / Managing Research
END:VEVENT
BEGIN:VEVENT
DTSTART;TZID=Europe/Tallinn:20260320T103000
DTEND;TZID=Europe/Tallinn:20260320T120000
DTSTAMP:20260420T125106
CREATED:20260217T084233Z
LAST-MODIFIED:20260217T093650Z
UID:4541-1774002600-1774008000@www.doktorikool.ee
SUMMARY:Juhendajate kohvihommik: "Tipptaseme saavutamine: kuidas juhendajad saavad toetada talente ja soodustada teadustöö edukust?" 
DESCRIPTION:Veebis (Teams)Kohvihommik toimub inglise keeles. \n\n\n\nDoktorantide juhendamine on akadeemilise tipptaseme saavutamiseks kriitilise tähtsusega. Ometi kipuvad juhendajad alahindama\, kuivõrd määravaks võivad teadustöö tulemustele saada suhete dünaamika ja kultuuriline tundlikkus. Kui doktorandid tunnevad end toetuseta või valesti mõistetuna\, ei piirdu tagajärjed üksnes isiklike raskustega – konfliktid\, läbipõlemine ja madal sooritusvõime mõjutavad otseselt teadustöö kvaliteeti\, õpingute lõpetamise määra ning asutuse mainet. \n\n\n\nSelles ettekandes arutletakse selle üle\, kuidas juhendajad saavad oma doktorantide potentsiaali maksimaalselt rakendada\, luues keskkonna\, mis soodustab talentide arengut ja ambitsiooni.  \n\n\n\n\n\n\n\nTuginedes Genti Ülikooli heaolupoliitika ja juhendajate arendamise kogemusele\, tutvustatakse järgmisi praktilisi strateegiaid:\nUsaldusele ja psühholoogilisele turvalisusele tuginevate tingimuste loomine kõrgete tulemuste saavutamiseks. \n\n\n\nMitmekesisuse tunnustamine väärtusena ning erinevate vaatenurkade rakendamine teadustöö tulemuste rikastamiseks. \n\n\n\nStruktureeritud tagasiside ja refleksiooniprotsesside integreerimine\, et säilitada töötempo ja tagada tipptasemel tulemused kogu doktorantuuri vältel. \n\n\n\n\n\n\n\n\nNende praktikate rakendamine võimaldab juhendajatel muuta potentsiaal saavutusteks\, tagades nii doktorantide heaolu kui ka kõrgeima kvaliteediga teadustulemused. Kohtumise käigus pakutakse rakendatavaid soovitusi juhendajatele\, kes soovivad ühendada akadeemilise ranguse kaasava ja toetava juhendamisviisiga\, mis viivad edukate tulemusteni.  \n\n\n\n➤ Kohvihommikut viib läbi Sean Bex. Sean Bex on Genti Ülikooli teadusprojektide osakonna juhataja\, vastutades ELi\, regionaalsete ja väljaspool ELi rahastusprogrammide strateegilise koordineerimise eest. Bex kujundab ülikooliüleseid teaduspoliitikaid\, nõustab teadusrahastuse ja -juhtimisega seotud küsimustes ning esindab ülikooli rahvusvahelistes projektides\, sealhulgas ENLIGHTi võrgustikus.Varem juhtis ta Genti Ülikooli doktorikooli\, keskendudes noorteadlaste heaolule. Tal on doktorikraad inglise kirjanduse alal ning poliitikakujundamise kogemus Ühendkuningriigi Parlamendis\, Belgia saatkonnas Ühendkuningriigis ja Ühendkuningriigi valitsuskantseleis. Registreerimine SIIN. Registreerimise tähtaeg on 18. märts 2026.Küsimuste korral pöörduda Hele-Riin Urmeti poole\, hele-riin.urmet@ut.ee.Eesti doktorikooli ühisüritus.
URL:https://www.doktorikool.ee/et/uritused/juhendajate-kohvihommik-tipptaseme-saavutamine/
CATEGORIES:Koostöö / Working with others
END:VEVENT
END:VCALENDAR