BEGIN:VCALENDAR
VERSION:2.0
PRODID:-//Eesti doktorikool - ECPv6.15.20//NONSGML v1.0//EN
CALSCALE:GREGORIAN
METHOD:PUBLISH
X-WR-CALNAME:Eesti doktorikool
X-ORIGINAL-URL:https://www.doktorikool.ee/et
X-WR-CALDESC:Events for Eesti doktorikool
REFRESH-INTERVAL;VALUE=DURATION:PT1H
X-Robots-Tag:noindex
X-PUBLISHED-TTL:PT1H
BEGIN:VTIMEZONE
TZID:Europe/Tallinn
BEGIN:DAYLIGHT
TZOFFSETFROM:+0200
TZOFFSETTO:+0300
TZNAME:EEST
DTSTART:20250330T010000
END:DAYLIGHT
BEGIN:STANDARD
TZOFFSETFROM:+0300
TZOFFSETTO:+0200
TZNAME:EET
DTSTART:20251026T010000
END:STANDARD
BEGIN:DAYLIGHT
TZOFFSETFROM:+0200
TZOFFSETTO:+0300
TZNAME:EEST
DTSTART:20260329T010000
END:DAYLIGHT
BEGIN:STANDARD
TZOFFSETFROM:+0300
TZOFFSETTO:+0200
TZNAME:EET
DTSTART:20261025T010000
END:STANDARD
BEGIN:DAYLIGHT
TZOFFSETFROM:+0200
TZOFFSETTO:+0300
TZNAME:EEST
DTSTART:20270328T010000
END:DAYLIGHT
BEGIN:STANDARD
TZOFFSETFROM:+0300
TZOFFSETTO:+0200
TZNAME:EET
DTSTART:20271031T010000
END:STANDARD
END:VTIMEZONE
BEGIN:VEVENT
DTSTART;TZID=Europe/Tallinn:20260505T000000
DTEND;TZID=Europe/Tallinn:20260506T235959
DTSTAMP:20260420T160128
CREATED:20260320T072025Z
LAST-MODIFIED:20260327T143100Z
UID:4709-1777939200-1778111999@www.doktorikool.ee
SUMMARY:Tuleviku teadus: Doktorantide konverents uute tehnoloogiate ajastul 
DESCRIPTION:📍 Tartu \n\n\n\n\n\n\n\nKonverents toimub inglise keeles. \n\n\n\nKonverents on korraldatud Eesti doktorikooli tehnika ja tehnoloogi harupartneri Tartu Ülikooli tehnoloogiainstituudi poolt\, millest võtavad osa Tartu Ülikooli\, Tallinna Tehnikaülikooli\, Eesti Maaülikooli\, Eesti Kunstiakadeemia ja Eesti Lennuakadeemia doktorandid.   \n\n\n\nKonverentsi teemaks on teadustöö rakendamine uudsete tehnoloogiate arendamiseks.   \n\n\n\nKonverentsil osalemine annab doktorandile esmase konverentsil osalemise kogemuse\, võimaluse oma teadustööd esitada interdistsiplinaarsele auditooriumile ning soodustab ülikoolide vahelist koostööd.  \n\n\n\nRegistreeru SIIN. Registreerimise tähtaeg on 06. aprill 2026.Komisjon hindab annotatsioone\, kuni 100 parimat saavad võimaluse esitleda oma teadustööd suulise- või posterettekandena.  \n\n\n\nÜrituse Facebook: https://fb.me/e/4ckwKEntr \n\n\n\nKüsimuste korral palume pöörduda biomeditsiini kaasprofessori Margit Mutso poole\, 5836 5997\, margit.mutso@ut.ee. \n\n\n\nEesti doktorikooli tehnika ja tehnoloogia haru.
URL:https://www.doktorikool.ee/et/uritused/tuleviku-teadus-doktorantide-konverents-uute-tehnoloogiate-ajastul/
CATEGORIES:Teadustöö mõjukus / Making an impact
END:VEVENT
BEGIN:VEVENT
DTSTART;TZID=Europe/Tallinn:20260505T000000
DTEND;TZID=Europe/Tallinn:20260508T235959
DTSTAMP:20260420T160128
CREATED:20260309T105722Z
LAST-MODIFIED:20260309T105723Z
UID:4644-1777939200-1778284799@www.doktorikool.ee
SUMMARY:Kirjutamislaager
DESCRIPTION:📍Kääriku spordikeskus \n\n\n\nTöökeel on inglise keel. \n\n\n\nKirjutamislaager on ainulaadne võimalus pühenduda oma artikli või teeside kirjutamisele inspireerivas Lõuna-Eesti looduses. \n\n\n\nProgramm keskendub kirjutamise peateemadele\, mis on olulised igale teadlasele. Külalisesineja on emeriitprofessor Howy Jacobs Tampere Ülikoolist\, kes viib läbi EMBO-stiilis meistriklassi koos aruteluga järgmistel teemadel: \n\n\n\n\nTeaduslik kirjutamine 101\n\n\n\nTeadusajakirjade maastikul orienteerumine\n\n\n\nRetsensioonide ja kommentaaride olemus ja eesmärk\n\n\n\nTeadusliku kirjutamise eetika ja ausus\n\n\n\n\nHowy Jacobs on briti molekulaarbioloog\, kes töötanud Soomes\, on olnud Tampere Ülikooli professor alates 1996. aastast. Aastatel 2015–2017 oli ta Helsingi Biotehnoloogiainstituudi direktor. Tema teadustöö keskendub mitokondrite geneetikale\, rakubioloogiale ja patofüsioloogiale\, kasutades erinevaid mudelorganisme. Aastatel 2009–2014 oli ta ühe EMBO juhtiva ajakirja EMBO Reports peatoimetaja ning praegu on ta ajakirja Fly peatoimetaja. Tal on pikaajaline kogemus teadusajakirjade töökorraldusest ja publitseerimisprotsessist. Samuti on ta paljude teadustegevuse ja -poliitika teemaliste arvamusartiklite autor. Vaata: https://pubmed.ncbi.nlm.nih.gov/?term=howy+jacobs+Embo&sort=date&size=200 ja https://www.professoriliitto.fi/en/blog-posts/authors/howy-jacobs/. \n\n\n\nLisaks on Kääriku kirjutamislaagris loengud andmehalduse ja teadusettevõtluse teemadel ning oma kogemusi jagavad noorteadlased\, kes on pärast doktorikraadi kaitsmist oma karjääri edukalt üles ehitanud. \n\n\n\nNagu varasematel aastatel\, on võimalus osaleda individuaalsetel mentorluskohtumistel. Mentorkohtumistel on võimalik saada personaalset tagasisidet oma käimasolevatele PhD projektidele või käsikirjaideedele. See on hea võimalus saada vahetut nõu kogenud teadlaselt ja esitada neid küsimusi\, mis tunduvad kõige olulisemad. \n\n\n\n\nOsalejatele pakutakse doktorikooli poolt majutust (kahekohalistes tubades)\, toitlustust ning transporti Tartust Käärikule ja tagasi.\n\n\n\nEeldame\, et osalete terve laagri vältel.\n\n\n\n\nRegistreeri SIIN. Registreerimise tähtaeg on 15. aprill 2026. \n\n\n\nKüsimuste korral palume pöörduda Eva Mõtte (eva.motte@ut.ee) poole. \n\n\n\nEesti doktorikooli arsti- ja terviseteaduste\, veterinaaria haru.
URL:https://www.doktorikool.ee/et/uritused/kirjutamislaager-23/
CATEGORIES:Teadustöö tegemine / Doing research
END:VEVENT
BEGIN:VEVENT
DTSTART;TZID=Europe/Tallinn:20260505T000000
DTEND;TZID=Europe/Tallinn:20260508T235959
DTSTAMP:20260420T160128
CREATED:20260416T134641Z
LAST-MODIFIED:20260420T124547Z
UID:4975-1777939200-1778284799@www.doktorikool.ee
SUMMARY:Elektrisõiduki jõuelektroonika ja mootoriajamite juhtimissüsteemide projekteerimine
DESCRIPTION:📍 Tallinna Tehnikaülikool\, Ehitajate tee 5\, Tallinn NRG-223 \n\n\n\nÜritus toimub inglise keeles. \n\n\n\nSee praktiline ja interaktiivne koolitus keskendub Simscape Electricali süsteemi kasutamisele digitaalselt juhitavate lülitustoitega jõuelektrooniliste muundurite modelleerimiseks\, juhtimiseks\, testimiseks ja verifitseerimiseks elektrisõidukite ajamisüsteemides. \n\n\n\nKäsitletavad teemad hõlmavad: \n\n\n\n\nAlalisvoolu (DC) jõuelektroonikasüsteemide modelleerimine\n\n\n\nJõupooljuhtseadiste parameetrite määramine\n\n\n\nMudeli detailsusastme (fidelity) juhtimine\n\n\n\nDigitaalsete juhtimissüsteemide arendamine jõuelektroonika jaoks\n\n\n\nKolmefaasiliste vahelduvvoolu (AC) jõuelektroonikasüsteemide modelleerimine\n\n\n\nJõuelektroonika juhtimine mootoriajamite rakendustes\n\n\n\nElektriliste komponentide ja juhtimissüsteemide integreerimine süsteemitaseme mudelisse\n\n\n\n\n\n\n\n\nEsineja: Antonino Riccobono (PhD)\nAntonino Riccobono (PhD) on MathWorksi juhtiv koolitusinsener\, kelle töökoht asub Itaalias Torinos. Ta juhib ülemaailmseid projekte ja algatusi elektrifitseerimise valdkonnas\, keskendudes eelkõige jõuelektroonikale ning jõuelektroonikasüsteemide digitaalsele juhtimisele. Doktorikraadi elektrotehnika erialal omandas ta Lõuna-Carolina Ülikoolis\, kus tema teadustöö keskendus jõuelektroonikal põhinevate alalisvoolu (DC) energiasüsteemide modelleerimisele\, juhtimisele ja stabiilsusele. \n\n\n\nEnne MathWorksiga liitumist 2017. aastal töötas ta järeldoktorantuuri teadlasena RWTH Aacheni Ülikooli E.ON Energy Research Centeris\, kus ta juhtis reaalajas simulatsiooni ja Hardware-in-the-Loop (HIL) meeskonda\, keskendudes keerukate energiasüsteemide modelleerimisele\, juhtimisele ja stabiilsusele. \n\n\n\nMathWorksis on Antonino Riccobono andnud märkimisväärse panuse jõuelektroonika mudelipõhise projekteerimise töövoogude arendamisse ja levitamisse\, sealhulgas: \n\n\n\n\nSüsteemne digitaaljuhtimise projekteerimine muunduritele\, kasutades MATLAB/Simulinkit ja Simscape Electrical™-i.\n\n\n\n\n\nSageduskarakteristiku hindamise ning väikeste signaalide stabiilsusanalüüsi meetodid alalis- ja vahelduvvoolu (DC ja AC) elektrijaotussüsteemidele.\n\n\n\n\n\nTehniliste artiklite koostamine ning rahvusvaheliste koolituste läbiviimine\, mis ühendavad teooria ja praktilise rakendamise elektrifitseerimissüsteemides.Tema töö aitab inseneridel ja teadlastel projekteerida\, simuleerida ja rakendada töökindlaid digitaalseid juhtimissüsteeme kaasaegsetes jõuelektroonika rakendustes.\n\n\n\n\n\nRegistreeri SIIN. Registreerimise tähtaeg on 27. aprill 2026 või kohtade täitumiseni. \n\n\n\nMaksimaalne osalejate arv on 20. Osalejad valitakse registreerumise järjekorras. Üritusele on oodatud doktorandid ja magistrandid. \n\n\n\nKüsimuste korral palume pöörduda Anton Rassõlkini (anton.rassolkin@taltech.ee; +372 620 3305) poole. \n\n\n\n \n\n\n\nEesti doktorikooli tehnika ja tehnoloogia haru.
URL:https://www.doktorikool.ee/et/uritused/elektrisoiduki-jouelektroonika-ja-mootoriajamite-juhtimissusteemide-projekteerimine/
END:VEVENT
BEGIN:VEVENT
DTSTART;TZID=Europe/Tallinn:20260506T000000
DTEND;TZID=Europe/Tallinn:20260508T235959
DTSTAMP:20260420T160128
CREATED:20260324T114923Z
LAST-MODIFIED:20260330T122206Z
UID:4741-1778025600-1778284799@www.doktorikool.ee
SUMMARY:Võrgustikuanalüüs humanitaarteadustes 
DESCRIPTION:📍 Tartus \n\n\n\nÜritus toimub inglise keeles. \n\n\n\nMaht: 2 EAP \n\n\n\nSee kolmepäevane töötuba tutvustab osalejatele võrgustikuteooria rakendusi humanitaarteadustes\, pöörates erilist tähelepanu lingvistikale ning kirjandus- ja kultuuriuuringutele. Esimene päev algab sissejuhatava loenguga\, mis annab valdkonnast kontseptuaalse ja metodoloogilise ülevaate ning tutvustab peamisi mõisteid\, mudeleid ja uurimisküsimusi. Sellele järgnevad ekspertide ettekanded\, mis demonstreerivad\, kuidas võrgustikupõhiseid lähenemisi saab rakendada erinevat tüüpi andmete ja uurimisprobleemide puhul. \n\n\n\nBotond Szemes tutvustab draamatekstide tegelasvõrgustikke ja nende analüüsivõimalusi. Tema ettekanne keskendub küsimusele\, kas erinevate draamažanrite\, näiteks komöödiate ja tragöödiate\, aluseks on erinevad kogukonnastruktuurid\, ning eristuvate tegelasfunktsioonide tuvastamisele nende kogukondade sees. Maciej Eder tutvustab meetodeid tekstide sarnasuse analüüsimiseks võrgumudelite abil. See lähenemine läheb kaugemale traditsioonilistest stiililistest või temaatilistest võrdlustest\, paljastades tekstide vahelisi keerukaid\, mitmemõõtmelisi seoseid ning tuues esile struktuure\, mida ei ole lihtne tabada paarikaupa sarnasuse mõõtmisega. Esimese päeva lõpetab Matteo Romanello\, kes käsitleb tsiteerimisvõrgustike analüüsi ja nende rolli teadusliku kommunikatsiooni kaardistamisel. Tema ettekanne uurib\, millised mustrid ilmnevad suurte teaduspublikatsioonide korpuste viidetest ning kuidas neid mustreid saab kasutada teadmiste loomise ja levitamise protsesside mõistmiseks akadeemilises kontekstis.  \n\n\n\nTöötoa teine ja kolmas päev on pühendatud praktiliste oskuste edasiandmisele. Töötubades käsitletakse andmete ettevalmistamist ning seda\, millist tüüpi andmed sobivad võrgustikuanalüüsiks. Osalejatele tutvustatakse ka visualiseerimistööriista Gephi kasutamist. Puudutatakse ka võrgustikumõõdikute arvutamist\, tõlgendamist ja rakendamist\, võimaldades osalejatel integreerida kvantitatiivset võrgustikuanalüüsi oma uurimisprojektidesse.   \n\n\n\nOsalejatele pakutakse võimalust konsulteerida lektoritega ka individuaalselt\, et arutada isiklikke uurimisplaane või käimasolevat tööd.  \n\n\n\nTöötoa eest on võimalik saada 2 EAP (eeldab tutvumist täiendava lugemismaterjaliga\, mis lisatakse peagi)  \n\n\n\nVäljastpoolt Tartut saabuvatele osalejatele pakutakse majutust. Lisaks katavad korraldajad kohvipausid ja ühise õhtusöögi. Lõunasööke ei pakuta. \n\n\n\n\nProgramm\n\n1. päev – Sissejuhatus\, võimalused\, näited (Ülikooli 18-139) \n10.30–11.00 Tervituskohv ja tutvumine  \n\n\n\n11.00–12.30 Üldine sissejuhatus võrgustikuteooriasse ja selle ajalukku (Thiago D. Oliveira)  \n\n\n\n12.30–14.00 Paus (lõuna omal käel)  \n\n\n\n14.00–14.30 Ettekanne (Botond Szemes)  \n\n\n\n14.30–15.00 Ettekanne (prof Maciej Eder)  \n\n\n\n15.00–15.30 Kohvipaus  \n\n\n\n15.30–17.00 Peaettekanne (Matteo Romanello)  \n\n\n\n19.00 Õhtusöök kõigile lektoritele ja osalejatele  \n\n\n\n\n2. päev – Võrgustike loomine (Jakobi 2-428) \n9.30–12.00 Töötuba andmete ettevalmistamisest. Andmete allikad (SPARQL\, TEI XML\, Excel jm)\, nende puhastamine ja ettevalmistamine. Mis peitub võrgustike taga\, erinevad võrgustikutüübid. Praktiline töötuba. (Matteo Romanello)  \n\n\n\n12.00–13.30 Paus (lõuna omal käel)  \n\n\n\n13.30–15.00 Töötuba võrgustike visualiseerimisest: Gephi – erinevad seadistused ja võimalused\, erinevad ettevalmistatud andmestikud (nt hommikuse sessiooni tulemused). Võimalus ise katsetada. Praktiline töötuba\, I osa. (prof Maciej Eder)  \n\n\n\n15.00–15.30 Kohvipaus  \n\n\n\n15.30–17.00 Töötuba\, II osa (prof Maciej Eder)  \n\n\n\n\n3. päev – Arvutused ja konsultatsioon (Jakobi 2-106) \n9.30–12.30 Konsultatsioonid (üliõpilaste ideed\, probleemid). (Matteo Romanello\, Botond Szemes\, Thiago D. Oliveira\, prof Maciej Eder)  \n\n\n\n12.30–14.00 Paus (lõuna omal käel)  \n\n\n\n14.00–15.30 Töötuba võrgustikumõõdikute kasutamisest võrgustike ja sõlmede kirjeldamiseks. Võrgustike võrdlemine\, sarnaste sõlmede leidmine erinevates võrgustikes. Võrgustikumõõdikute visualiseerimine (võrgustikest graafikuteni). Praktiline töötuba\, I osa. (Botond Szemes)  \n\n\n\n15.30–16.00 Kohvipaus  \n\n\n\n16.00–17.00 Töötuba\, II osa (Botond Szemes)  \n\n\n\n\n\n\n\nNB! Kõik kohad on töötuppa täitunud! Võimalik on panna end ootejärjekorda. \n\n\n\nRegistreeru SIIN. Osalejate piirarv on 25. Osalejad valitakse “kes ees\, see mees” põhimõttel\, aga eelistatakse neid\, kes saavad osaleda kogu üritusel. \n\n\n\nKüsimuste korral palume pöörduda Loone Vilumaa (loone.vilumaa@ut.ee) poole. \n\n\n\nEesti doktorikooli humanitaarteaduste ja kunstide haru. \n\n\n\n 
URL:https://www.doktorikool.ee/et/uritused/vorgustikuanaluus-humanitaarteadustes/
CATEGORIES:Teadustöö tegemine / Doing research
END:VEVENT
END:VCALENDAR