BEGIN:VCALENDAR
VERSION:2.0
PRODID:-//Eesti doktorikool - ECPv6.15.20//NONSGML v1.0//EN
CALSCALE:GREGORIAN
METHOD:PUBLISH
X-WR-CALNAME:Eesti doktorikool
X-ORIGINAL-URL:https://www.doktorikool.ee/et
X-WR-CALDESC:Events for Eesti doktorikool
REFRESH-INTERVAL;VALUE=DURATION:PT1H
X-Robots-Tag:noindex
X-PUBLISHED-TTL:PT1H
BEGIN:VTIMEZONE
TZID:Europe/Tallinn
BEGIN:DAYLIGHT
TZOFFSETFROM:+0200
TZOFFSETTO:+0300
TZNAME:EEST
DTSTART:20250330T010000
END:DAYLIGHT
BEGIN:STANDARD
TZOFFSETFROM:+0300
TZOFFSETTO:+0200
TZNAME:EET
DTSTART:20251026T010000
END:STANDARD
BEGIN:DAYLIGHT
TZOFFSETFROM:+0200
TZOFFSETTO:+0300
TZNAME:EEST
DTSTART:20260329T010000
END:DAYLIGHT
BEGIN:STANDARD
TZOFFSETFROM:+0300
TZOFFSETTO:+0200
TZNAME:EET
DTSTART:20261025T010000
END:STANDARD
BEGIN:DAYLIGHT
TZOFFSETFROM:+0200
TZOFFSETTO:+0300
TZNAME:EEST
DTSTART:20270328T010000
END:DAYLIGHT
BEGIN:STANDARD
TZOFFSETFROM:+0300
TZOFFSETTO:+0200
TZNAME:EET
DTSTART:20271031T010000
END:STANDARD
END:VTIMEZONE
BEGIN:VEVENT
DTSTART;TZID=Europe/Tallinn:20260512T000000
DTEND;TZID=Europe/Tallinn:20260514T235959
DTSTAMP:20260420T160225
CREATED:20260302T150307Z
LAST-MODIFIED:20260303T064910Z
UID:4603-1778544000-1778803199@www.doktorikool.ee
SUMMARY:Töötuba: Ränivetikad kui keskkonnaindikaatorid kohtuekspertiisis
DESCRIPTION:📍 TalTech Särghaua maateaduste ja keskkonnatehnoloogia õppekeskus \n\n\n\nTöötuba toimub inglise keeles. \n\n\n\nTöötuba annab ülevaate ränivetikate olulisusest ja nende mitmekesistest rakendustest loodusteadustes\, pöörates erilist tähelepanu nende rollile kohtuekspertiisis. Osalejad tutvuvad ränivetikate ökoloogilise mitmekesisusega mere-\, riim- ja magevee keskkondades\, keskendudes nende kasutamisele tõendina kohtuekspertiisi kontekstis. Põhiteemade hulka kuuluvad ränivetikate morfoloogia ja määramise alused\, ränivetikakoosluste tõlgendamine kohtuekspertiisi juhtumites ning olulised metoodilised aspektid\, nagu saastumise vältimine ja keskkonnaspetsiifilisus. Programmi ilmestavad praktilised näited reaalsetest kohtuekspertiisi juhtumitest. \n\n\n\nPõhiettekanded peavad Helsingi Ülikooli ja Turu Ülikooli eksperdid. Töötoa korraldab Tallinna Tehnikaülikooli (TalTech) geoloogia osakond ning see toimub 12.–14. mail 2026 Särghaua Maateaduste Keskuses. Töökeeleks on inglise keel. Osalejad viib toimumiskohta Särghauale ja toob ka tagasi Tallinnast (Taltechi peahoone parkla) väljuv buss. Majutus on Särghaual. \n\n\n\nRegistreerimiseks kirjuta atko.heinsalu@taltech.ee. Registreerimise tähtaeg 13. märts 2026.Osalejate piirarv on 14. Osalejad valitakse registreerimise järjekorra alusel. \n\n\n\nKüsimuste korral palume pöörduda Atko Heinsalu (atko.heinsalu@taltech.ee) või Merlin Liiva (merlin.liiv@taltech.ee) poole. \n\n\n\nEesti doktorikooli loodusteaduste ja põllumajandusteaduste haru.
URL:https://www.doktorikool.ee/et/uritused/tootuba-ranivetikad-kui-keskkonnaindikaatorid-kohtuekspertiisis/
CATEGORIES:Teadustöö tegemine / Doing research
END:VEVENT
BEGIN:VEVENT
DTSTART;TZID=Europe/Tallinn:20260512T000000
DTEND;TZID=Europe/Tallinn:20260514T235959
DTSTAMP:20260420T160225
CREATED:20260320T064045Z
LAST-MODIFIED:20260323T143952Z
UID:4707-1778544000-1778803199@www.doktorikool.ee
SUMMARY:Epidemioloogilised meetodid sotsiaalteadustes ja kirjandusülevaate artiklite koostamine
DESCRIPTION:📍 Tallinna Ülikool \n\n\n\nKursus toimub eesti keeles. \n\n\n\nMaht: 52 tundi (22 tundi kontaktõpe + 30 tundi individuaalne töö) / 2 EAP \n\n\n\nMis on epidemioloogia ja selle uurimismeetodid? Kas neid saab kasutada ka sotsiaalteadustes? Millised on erinevad kirjanduse ülevaate võimalused ja millal neid kasutada?   \n\n\n\nKursus vastab nendele küsimustele ja laiendab teadmisi epidemioloogiliste uurimismeetodite kasutamise võimalustest sotsiaalteadustes\, mida saab rakendada doktoritöös. Samuti on võimalik arutada seniseid kogemusi nende kasutamisel. \n\n\n\nKursus on suunatud doktorantidele ja doktoritööde juhendajatele. Kursus on väärt 2 EAP ja kursuse edukalt läbinud osalejatele väljastatakse tunnistus. \n\n\n\nRegistreeru SIIN. Registreerimise tähtaeg on 3. mai 2026. \n\n\n\nIseseisev töö: Osalejad kirjutavad 3-4 lk kirjelduse millist kirjanduse ülevaate meetodit nad plaanivad kasutada oma doktoritöös koos põhjendusega. – Iseseisva töö arutelu toimub kursuse järgselt online (täpne aeg lepitakse kokku kursusel osalejatega kursuse käigus)\, see annab osalejatele võimaluse saada ja anda tagasisidet. \n\n\n\nPalun tutvuge kursuse pikema kirjelduse ja kohustusliku kirjandusega siin. \n\n\n\nAjakava\nTeisipäev 12.05.2026 kell 10-17 (lõuna 13-14) \n\n\n\n\nLühiülevaade epidemioloogiast ja suhe sotsiaalteadustega\n\n\n\nEpidemioloogilised uurimismeetodid: Osa 1\n\n\n\n\nKolmapäev 13.05.2026 kell 10-17 (lõuna 13-14) \n\n\n\n\nEpidemioloogilised uurimismeetodid: Osa 2\n\n\n\nSegameetodite kasutamine\n\n\n\n\nNeljapäev 14.05.2026 kell 10-17 (lõuna 13-14) \n\n\n\n\nErinevad kirjanduse ülevaate meetodid: Mida ma peaksin teadma?\n\n\n\nSüstemaatiline kirjandusülevaade\n\n\n\n\n\nKüsimuste korral palume pöörduda Eva Valdna poole (eva.valdna@tlu.ee). \n\n\n\nKoolitust korraldab Eesti doktorikooli sotsiaalteaduste haru partner Tallinna Ülikool.
URL:https://www.doktorikool.ee/et/uritused/epidemioloogilised-meetodid-sotsiaalteadustes-ja-kirjandusulevaate-artiklite-koostamine/
CATEGORIES:Teadustöö tegemine / Doing research
END:VEVENT
BEGIN:VEVENT
DTSTART;TZID=Europe/Tallinn:20260514T090000
DTEND;TZID=Europe/Tallinn:20260515T170000
DTSTAMP:20260420T160225
CREATED:20260226T131400Z
LAST-MODIFIED:20260226T134119Z
UID:4583-1778749200-1778864400@www.doktorikool.ee
SUMMARY:Keemia doktorantide konverents
DESCRIPTION:📍 TalTech Loodusteaduste maja\, Akadeemia tee 15\, SCI-109 \n\n\n\nKonverents toimub inglise keeles. \n\n\n\nKeemia doktorandid teevad 20-25 min ettekandeid „kaitsmise“ formaadis nende uurimistööst. Pärast iga ettekannet tulevad küsimused (10-15 min). Doktorandid harjutavad ettekannete tegemist ning seeläbi valmistuvad kaitsmiseks. Plaanitud on kutsuda üks külalisesineja (nt. noor rühmajuht) välismaalt.  \n\n\n\nLäbiviijaks on nooremprofessor Maksim Ošeka\, TalTech\, Keemia ja biotehnoloogia doktoriõppe erialajuht. \n\n\n\nRegistreeri SIIN.Need\, kes soovivad teha ettekande ja ei ole TalTechi tudeng\, siis palume võtta ühendust Maksim Ošekaga hiljemalt 13. märtsiks. \n\n\n\nKüsimuste korral palume pöörduda Maksim Ošeka\, maksim.oseka@taltech.ee\, või Cecilia Sarmiento poole\, cecilia.sarmiento@taltech.ee. \n\n\n\nEesti doktorikooli loodusteaduste ja põllumajandusteaduste haru.
URL:https://www.doktorikool.ee/et/uritused/keemia-doktorantide-konverents-2/
CATEGORIES:Teadustöö tegemine / Doing research
END:VEVENT
BEGIN:VEVENT
DTSTART;TZID=Europe/Tallinn:20260514T100000
DTEND;TZID=Europe/Tallinn:20260515T140000
DTSTAMP:20260420T160225
CREATED:20260325T073506Z
LAST-MODIFIED:20260326T093334Z
UID:4754-1778752800-1778853600@www.doktorikool.ee
SUMMARY:Sissejuhatus diskursuse analüüsi
DESCRIPTION:📍 Tallinna Ülikool \n\n\n\nÜritus toimub inglise keeles. \n\n\n\nMaht: 1 EAP \n\n\n\nKursuse eesmärk on anda osalejatele oskused sotsiaalteadusliku uurimistöö kavandamiseks ja läbiviimiseks\, kasutades tekstide ja diskursuse analüüsi kui peamist lähenemisviisi.  \n\n\n\nKursus loob teoreetilise aluse teksti- ja diskursusanalüüsile ning ühendab selle praktilise ja rakendusliku lähenemisega\, et osalejad saaksid arendada iseseisvust ja enesekindlust oma uurimistöö läbiviimisel. Kursus julgustab tegelema analüütilise ja kriitilise uurimistööga\, mis võimaldab mõista mitte ainult nähtavaid\, vaid ka varjatud ja kaudseid poliitika ja ühiskonna mõõtmeid. \n\n\n\nKursuse läbimiseks ja tunnistuse (1 EAP) saamiseks peab osaleja töötama enne kursuse algust läbi kohustusliku kirjanduse\, osalema aktiivselt seminaride aruteludes ning analüütilistes ülesannetes. Praktilise ülesandena arendatakse kursuse jooksul oma esialgset diskursusanalüütilist uurimisideed või -disaini\, rakendades kursusel käsitletud kontseptuaalseid ja metodoloogilisi tööriistu. \n\n\n\nPalun tutvuge lugemisnimekirjaga SIIN. \n\n\n\nRegistreeri SIIN. Registreerimise tähtaeg on 3. mai 2026 või kuni täitub maksimaalne osalejate arv (20). \n\n\n\nVäljaspool Tallinna elavad osalejad võivad taotleda majutust (vt registreerimisvormist). \n\n\n\nÕppejõud\nKursust viib läbi prof Audrey Alejandro\, kaasprofessor\, London School of Economics and Political Science\, metodoloogia osakond \n\n\n\nLoe prof Audrey Alejandro kohta lähemalt SIIN \n\n\n\n\nAjakava\n14. mai \n\n\n\n10.00–12.00 Sessioon 1: Teksti ja diskursuse uurimine \n\n\n\n12.00–13.00 lõunapaus \n\n\n\n13.00–15.00 Sessioon 2: Diskursusanalüüs \n\n\n\n15. mai \n\n\n\n10.00–12.00 Sessioon 3: Foucauld’ diskursuse analüüs \n\n\n\n12.00–13.00 lõunapaus \n\n\n\n13.00–14.00 Sessioon 4: Praktiline sessioon osalejate uurimisdisainide või võimalike projektide fookusega \n\n\n\n\nKüsimuste korral palume pöörduda Eva Valdna (eva.valdna@tlu.ee; +372 56204486) poole. \n\n\n\nEesti doktorikooli sotsiaalteaduste haru.
URL:https://www.doktorikool.ee/et/uritused/sissejuhatus-diskursuse-analuusi/
CATEGORIES:Teadustöö tegemine / Doing research
END:VEVENT
END:VCALENDAR