BEGIN:VCALENDAR
VERSION:2.0
PRODID:-//Eesti doktorikool - ECPv6.15.20//NONSGML v1.0//EN
CALSCALE:GREGORIAN
METHOD:PUBLISH
X-ORIGINAL-URL:https://www.doktorikool.ee/et
X-WR-CALDESC:Events for Eesti doktorikool
REFRESH-INTERVAL;VALUE=DURATION:PT1H
X-Robots-Tag:noindex
X-PUBLISHED-TTL:PT1H
BEGIN:VTIMEZONE
TZID:Europe/Tallinn
BEGIN:DAYLIGHT
TZOFFSETFROM:+0200
TZOFFSETTO:+0300
TZNAME:EEST
DTSTART:20250330T010000
END:DAYLIGHT
BEGIN:STANDARD
TZOFFSETFROM:+0300
TZOFFSETTO:+0200
TZNAME:EET
DTSTART:20251026T010000
END:STANDARD
BEGIN:DAYLIGHT
TZOFFSETFROM:+0200
TZOFFSETTO:+0300
TZNAME:EEST
DTSTART:20260329T010000
END:DAYLIGHT
BEGIN:STANDARD
TZOFFSETFROM:+0300
TZOFFSETTO:+0200
TZNAME:EET
DTSTART:20261025T010000
END:STANDARD
BEGIN:DAYLIGHT
TZOFFSETFROM:+0200
TZOFFSETTO:+0300
TZNAME:EEST
DTSTART:20270328T010000
END:DAYLIGHT
BEGIN:STANDARD
TZOFFSETFROM:+0300
TZOFFSETTO:+0200
TZNAME:EET
DTSTART:20271031T010000
END:STANDARD
END:VTIMEZONE
BEGIN:VEVENT
DTSTART;TZID=Europe/Tallinn:20261008T000000
DTEND;TZID=Europe/Tallinn:20261010T235959
DTSTAMP:20260421T013811
CREATED:20260415T064943Z
LAST-MODIFIED:20260415T065100Z
UID:4963-1791417600-1791676799@www.doktorikool.ee
SUMMARY:Coachingu ja meelerahu tööriistad doktoriõppe ja teadustöö toetamise kontekstis
DESCRIPTION:📍Männiku Metsatalu \n\n\n\nKoolitus toimub eesti keeles. \n\n\n\nKoolituse maht on 1 EAP. \n\n\n\nKoolituse eesmärk on arendada doktorantide ja nende juhendajate võimekust rakendada coachingu ning teadveloleku- ja meditatsioonipraktikaid doktoriõppe ja teadustöö protsessi toetamisel\, tugevdades eneseteadlikkust\, motivatsiooni ja toimetulekut akadeemiliste väljakutsetega. \n\n\n\nKoolituse formaat:Kolmepäevane süvendatud õppevormis koolitus ühendab praktilised harjutused ja reflekteeriva õppe\, toetades õpitu integreerimist individuaalse ja grupikogemuse kaudu. \n\n\n\nKoolituse teemad\n\nEnese teadvustamine ja -võimestamine coachiva lähenemise kaudu — rühma- ja paaritöö meetodite abil doktoriõppe protsessis esinevate takerdumiste lahtimõtestamine ning juhendatavate sisemise motivatsiooni ja enesejuhtimisoskuste toetamine.\n\n\n\nTunnustav avastamine (Appreciative Inquiry) doktori- ja teadustöö toetamise kontekstis — toimivate töövõtete kaardistamine ja tugevdamine\, et leida ressursse ja lähenemisviise\, mis toetavad nii juhendajat kui juhendatavat keerulistes uurimistöö etappides.\n\n\n\nTeadlikkust toetavad praktikad — teadveloleku harjutused enesejuhtimise tööriistadena\, mis aitavad märgata ja reguleerida kognitiivseid ja emotsionaalseid protsesse nõudlikus akadeemilises töökeskkonnas.\n\n\n\nHeasoovlikkust toetavad praktikad — heasoovlikkuse kasvatamine suhetes kolleegidega\, toetades emotsionaalset vastupidavust ja koostööpõhist akadeemilist töökeskkonda.\n\n\n\n\n\nKoolituse läbiviijad\nKaupo Saue – International Supervision and Coaching Institute õppejõud\, Creates OÜ superviisor ja coach \n\n\n\nTaivo Org – teadlikkuse- ja meditatsioonipraktikate juhendaja \n\n\n\n\nOodatud on Eesti doktorikooli arsti- ja terviseteadusete\, veterinaaria haru doktorandid ja juhendajad järgmiste ülikoolide ja doktoriõppe kavade juurest: \n\n\n\n\nTallinna Tehnikaülikool – Loodusteadused: biomeditsiin ja tervisetehnoloogia\n\n\n\n\n\nTartu Ülikool – Meditsiin ja sport\n\n\n\n\n\nTallinna Ülikool – Tervisekäitumine ja heaolu\, Sotsiaaltöö\n\n\n\n\n\nEesti Maaülikool – Veterinaarmeditsiin ja toiduteadus\n\n\n\n\nRegistreeru SIIN. Registreerimise tähtaeg on 30. aprill 2026 või kui kohad on täis. Osalejate piirarv on 16. \n\n\n\nKüsimuste korral palume pöörduda Viia Roosaare (viia.roosaar@taltech.ee) või Ivo Fridolin (ivo.fridolin@taltech.ee) poole. \n\n\n\nEesti doktorikooli arsti- ja terviseteadused\, veterinaaria haru.
URL:https://www.doktorikool.ee/et/uritused/coachingu-ja-meelerahu-tooriistad-doktorioppe-ja-teadustoo-toetamise-kontekstis-2/
END:VEVENT
END:VCALENDAR