BEGIN:VCALENDAR
VERSION:2.0
PRODID:-//Eesti doktorikool - ECPv6.15.20//NONSGML v1.0//EN
CALSCALE:GREGORIAN
METHOD:PUBLISH
X-WR-CALNAME:Eesti doktorikool
X-ORIGINAL-URL:https://www.doktorikool.ee/et
X-WR-CALDESC:Events for Eesti doktorikool
REFRESH-INTERVAL;VALUE=DURATION:PT1H
X-Robots-Tag:noindex
X-PUBLISHED-TTL:PT1H
BEGIN:VTIMEZONE
TZID:Europe/Tallinn
BEGIN:DAYLIGHT
TZOFFSETFROM:+0200
TZOFFSETTO:+0300
TZNAME:EEST
DTSTART:20230326T010000
END:DAYLIGHT
BEGIN:STANDARD
TZOFFSETFROM:+0300
TZOFFSETTO:+0200
TZNAME:EET
DTSTART:20231029T010000
END:STANDARD
BEGIN:DAYLIGHT
TZOFFSETFROM:+0200
TZOFFSETTO:+0300
TZNAME:EEST
DTSTART:20240331T010000
END:DAYLIGHT
BEGIN:STANDARD
TZOFFSETFROM:+0300
TZOFFSETTO:+0200
TZNAME:EET
DTSTART:20241027T010000
END:STANDARD
BEGIN:DAYLIGHT
TZOFFSETFROM:+0200
TZOFFSETTO:+0300
TZNAME:EEST
DTSTART:20250330T010000
END:DAYLIGHT
BEGIN:STANDARD
TZOFFSETFROM:+0300
TZOFFSETTO:+0200
TZNAME:EET
DTSTART:20251026T010000
END:STANDARD
END:VTIMEZONE
BEGIN:VEVENT
DTSTART;TZID=Europe/Tallinn:20240424T110000
DTEND;TZID=Europe/Tallinn:20240424T143000
DTSTAMP:20260420T062808
CREATED:20240415T095949Z
LAST-MODIFIED:20240423T120632Z
UID:339-1713956400-1713969000@www.doktorikool.ee
SUMMARY:Loovuurimuse seminar "Kuidas ma uurin"
DESCRIPTION:This seminar is only in Estonian. \nSeminar toimub 24.04.2024 kl 11.00-14.30\nEesti Muusika- ja Teatriakadeemias (Tatari 13 õppehoones)\nRuum A103 \nSeminaril arutavad loovuurimuse doktorandid vabas vormis\, praktiliste näidete\nabil\, milline on nende doktoritöö uurimisprotsess. \nOma uurimuste seisu tutvustavad doktorandid EMTAst ja EKAst (igaüks 15-20 minutit) – päevakava vt SIIT. \nEsimese EMTA ja EKA ühisseminari loovuurimusest korraldas EMTA doktoriõppe keskus 2017. aastal. Sellest peale on (väheste eranditega) igal semestril toimunud loovuurijate-doktorantide kohtumine. Seekord leiab seminar aset Eesti doktorikooli humanitaarteaduste ja kunstide haru tegevuse raames ja oodatud on loovuurijad kõikidest Eesti ülikoolidest. \nAinepunktid: esinejad 2 EAP\, osalejad 1 EAP. \nRegistreerumine kuni 19.04.\nTäpsem info: kristel.karu-kletter@eamt.ee
URL:https://www.doktorikool.ee/et/uritused/loovuurimuse-seminar-kuidas-ma-uurin/
END:VEVENT
BEGIN:VEVENT
DTSTART;TZID=Europe/Tallinn:20240410T100000
DTEND;TZID=Europe/Tallinn:20240410T100000
DTSTAMP:20260420T062808
CREATED:20240327T093310Z
LAST-MODIFIED:20240402T085931Z
UID:262-1712743200-1712743200@www.doktorikool.ee
SUMMARY:Välisprofessori Michael Beckmann loeng/ lecture by Prof. Michael Beckmann
DESCRIPTION:Välisprofessori Michael Beckmann loeng teemal „Harmonizing Land Use and Biodiversity Conservation in Multifunctional Landscapes: Opportunities and Challenges”. \nLoeng toimub Eesti Maaülikoolis.\nKuupäev ja kellaaeg: 10.04.2024 algusega kl. 10:00\nToimumiskoht: Tartu\, Kreutzwaldi 5\, ruumis D239 \nKuulama on oodatud kõik doktorandid\, magistrandid ja juhendajad.\nEelregistreeruda vaja ei ole. \nProf. Michael Beckmann on UFZ bioloogilise mitmekesisuse ja ökosüsteemiteenuste töörühma juht (Helmholtz Centre for Environmental Research (UFZ)\, Saksamaa) ning tema peamisteks uurimisvaldkondadeks on ökosüsteemiteenused ja bioloogiline mitmekesisus\, inimese ja keskkonna vahelised interaktsioonid\, maastikuökoloogia\, maakasutus ja invasiivsed taimeliigid. \n\nTäpsem info: Kristel Kirsimäe kristel.kirsimae@emu.ee \nEesti doktorikooli loodusteaduste ja põllumajandusteaduste haru \n\nLecture by Prof. Michael Beckmann from the Helmholtz Centre for Environmental Research (UFZ) in Germany\, titled „Harmonizing Land Use and Biodiversity Conservation in Multifunctional Landscapes: Opportunities and Challenges”. \nLecture will take place at the Estonian University of Life Sciences.\nDate and time: 10.04.2024 at 10:00 AM\nVenue: Tartu\, Kreutzwaldi 5\, room D239 \nAll PhD students\, postgraduates and tutors are welcome to listen.\nNo pre-registration required. \nProf. Michael Beckmann is the head of the research group on Biodiversity and Ecosystem Services (BIOECOS) at UFZ. His primary research interests encompass ecosystem services and biodiversity\, human-environment interactions\, landscape ecology\, land use\, and invasive plant species. \nMore information: Kristel Kirsimäe kristel.kirsimae@emu.ee \nEstonian Doctoral School for Natural and Agricultural Sciences
URL:https://www.doktorikool.ee/et/uritused/valisprofessori-michael-beckmann-loeng-lecture-by-prof-michael-beckmann-10-04-2024-eesti-maaulikoolis/
END:VEVENT
BEGIN:VEVENT
DTSTART;TZID=Europe/Tallinn:20240408T170000
DTEND;TZID=Europe/Tallinn:20240412T160000
DTSTAMP:20260420T062808
CREATED:20240319T144520Z
LAST-MODIFIED:20240402T085844Z
UID:240-1712595600-1712937600@www.doktorikool.ee
SUMMARY:Intensive course:  Art in the Age of Perpetual Distraction
DESCRIPTION:Estonian Academy of Arts\, 8-12 April 2024\nPõhja pst 7\, Tallinn \nWe live in an age of perpetual distraction. We are in the midst of an “attention economy” around which contemporary capitalism now pivots and which has\, its flipside\, a growing sense that our distractibility now defines our contemporary world. \nThe intensive course will focus on recent discussions in contemporary art and curating around the notions such as distraction\, speed\, slowness\, empathy\, and curiosity. \nTopics covered: \n\nDistraction and the “Attention Economy”\nDistraction: A History\nEmpathy\, Curiosity – and their Limits?\nThe Virtues of Slowness?\nAttention and Distraction\, Stillness and Speed in Art and Art History\nDistraction and Display\nCurating and Distraction\nDistraction and Pedagogy\n\nRegistration link \nMore information about the intensive course. \nEstonian Doctoral School for Humanities and Arts
URL:https://www.doktorikool.ee/et/uritused/intensive-course-art-in-the-age-of-perpetual-distraction/
END:VEVENT
END:VCALENDAR